BEGIN:VCALENDAR
VERSION:2.0
PRODID:-//wp-events-plugin.com//6.4.8//EN
TZID:America/New_York
X-WR-TIMEZONE:America/New_York
BEGIN:VEVENT
UID:379@pspaonline.com
DTSTART;TZID=America/New_York:20180301T094500
DTEND;TZID=America/New_York:20180301T150000
DTSTAMP:20180213T133802Z
URL:https://pspaonline.com/events/march-2018-field-trip/
SUMMARY:Field Trip - JBS Beef Production
DESCRIPTION:Meeting Topic:  Field Trip - JBS Beef Production\n\nThe March
  1\, 2018 field trip is sure to be one of the best ever! We will be visiti
 ng JBS packing facility near Souderton\, PA and having lunch at the Herita
 ge Restaurant. Details to follow next month.\n\nJBS Beef Production is loc
 ated 40 miles northwest of Philadelphia\, the Souderton beef processing fa
 cility is the largest beef facility east of Chicago\, IL\, serving custome
 rs along the eastern seaboard and around the globe.\n\n&nbsp\;\n\nPlease n
 ote: All regular meetings of PSPA begin promptly at 12:15 PM. Reservati
 ons for the luncheon must be made by Noon of the Friday preceding the mee
 ting (no meals guaranteed for late reservations). Deadlines for field tri
 ps will be announced. Field trip schedules vary depending on location and 
 event.\n[level-general-members]\nMembers:  Click here to purchase tickets
 \n[/level-general-members]\n[level-strangers]\nMembers:  Log-in to purcha
 se tickets\nNon-Members:  If you are interested in being invited to this 
 or a future Luncheon Meeting\, Click here\n[/level-strangers]
CATEGORIES:Luncheon Meeting
LOCATION:JBS Beef Production\, 249 Allentown Road\, Souderton\, PA\, 18964\
 , United States
GEO:40.29446009999999;-75.34020520000001
X-APPLE-STRUCTURED-LOCATION;VALUE=URI;X-ADDRESS=249 Allentown Road\, Souder
 ton\, PA\, 18964\, United States;X-APPLE-RADIUS=100;X-TITLE=JBS Beef Produ
 ction:geo:40.29446009999999,-75.34020520000001
END:VEVENT
BEGIN:VTIMEZONE
TZID:America/New_York
X-LIC-LOCATION:America/New_York
BEGIN:STANDARD
DTSTART:20171105T010000
TZOFFSETFROM:-0400
TZOFFSETTO:-0500
TZNAME:EST
END:STANDARD
END:VTIMEZONE
END:VCALENDAR