BEGIN:VCALENDAR
VERSION:2.0
PRODID:-//wp-events-plugin.com//6.4.8//EN
TZID:America/New_York
X-WR-TIMEZONE:America/New_York
BEGIN:VEVENT
UID:418@pspaonline.com
DTSTART;TZID=America/New_York:20200402T103000
DTEND;TZID=America/New_York:20200402T140000
DTSTAMP:20200320T162843Z
URL:https://pspaonline.com/events/field-trip-schuylkill-county/
SUMMARY:Canceled: Field Trip: Schuylkill County
DESCRIPTION:\n\n\n\nEvent Update: Due to the current COVID-19 Situation\, t
 his field trip has been canceled.\n\n- - - -\n\nVisit to Koch Turkey Farms
 \, Embrovac Vaccine Egg Farm\, and Varano Tilapia Farm.\n\n\n\n&nbsp\;\n\n
 Remember: Our meeting time is now 11:30 AM. Lunch will begin promptly at 1
 2:15 PM. There will be an Executive Committee meeting starting at 10:30 AM
 . All officers\, committee chairmen and past presidents are invited and ur
 ged to attend. \n\nField Trip times will be announced.\n\n&nbsp\;\n[level
 -general-members]\nMembers:  Click here to purchase tickets\n[/level-gene
 ral-members]\n[level-strangers]\nMembers:  Log-in to purchase tickets\nNo
 n-Members:  If you are interested in being invited to this or a future Lu
 ncheon Meeting\, Click here\n[/level-strangers]\n\n
CATEGORIES:Field Trip
LOCATION:Koch Turkey Farms\, 416 Valley Road\, Tamaqua\, PA\, 18252\, Unite
 d States
X-APPLE-STRUCTURED-LOCATION;VALUE=URI;X-ADDRESS=416 Valley Road\, Tamaqua\,
  PA\, 18252\, United States;X-APPLE-RADIUS=100;X-TITLE=Koch Turkey Farms:g
 eo:0,0
END:VEVENT
BEGIN:VTIMEZONE
TZID:America/New_York
X-LIC-LOCATION:America/New_York
BEGIN:DAYLIGHT
DTSTART:20200308T030000
TZOFFSETFROM:-0500
TZOFFSETTO:-0400
TZNAME:EDT
END:DAYLIGHT
END:VTIMEZONE
END:VCALENDAR