BEGIN:VCALENDAR
VERSION:2.0
PRODID:-//wp-events-plugin.com//6.4.8//EN
TZID:America/New_York
X-WR-TIMEZONE:America/New_York
BEGIN:VEVENT
UID:500@pspaonline.com
DTSTART;TZID=America/New_York:20260604T100000
DTEND;TZID=America/New_York:20260604T130000
DTSTAMP:20260210T003916Z
URL:https://pspaonline.com/events/agriculture-from-the-perspective-of-a-go
 lf-course-a-field-trip/
SUMMARY:“Agriculture from the Perspective of a Golf Course: A Field Trip
 ”
DESCRIPTION:Philadelphia Cricket Club was founded in 1854\, and is the olde
 st country club in the United States.  The Truist Championship was the mo
 st recent professional golf tournament to be hosted there.\n\nDan Meersman
  is the Director of Grounds at the Philadelphia Cricket Club (Flourtown\, 
 PA).  Originally from Michigan\, Meersman is a third-generation golf cour
 se superintendent.  He is considerd a pioneer in the golf course industry
  for his leadership and innovation\, particularly with the use of a fleet 
 of robotic mowers to help maintain three golf courses and other areas.\n\n
 Dan will guide us on a tour of the agronomic practices involved in maintai
 ning the many playing surfaces and landscapes of a golf course.\n\nLocatio
 n\n\nPhiladelphia Cricket Club\n\nLogistics\n\n 	Thursday\, June 4\, 2025 
 with meet and greet at front entrance at 10:00 am\, program at 10:30 am\, 
 and lunch at noon.  Lunch will be served onsite at the Club.\n 	Registrat
 ion fee is $35 and pre-registration is required.  Register by contacting 
 pspaonline@gmail.com with the name(s) of the people attending\, their aff
 iliations\, and emails.\n 	Make checks out to Philadelphia Society for Pro
 moting Agriculture and mail to PSPA Treasurer\, 140 Waypoint Dr.\, Lancast
 er PA 17603.\n 	Click here and follow the link to purchase your ticket for
  luncheon meetings with PayPal or Credit Card.\n 	Parking is available at 
 the Club at a location to be announced.\n 	Contact Scott Sheely at pspaonl
 ine@gmail.com with any questions.\n 	Registration ends at noon on Friday\,
  May 29\, 2026.\n
ATTACH;FMTTYPE=image/jpeg:https://pspaonline.com/assets/Philadelphia_Crick
 et_Club.jpg
CATEGORIES:Field Trip
LOCATION:Philadelphia Cricket Club\, 6025 West Valley Green Road\, Flourtow
 n\, PA\, 19031\, United States
X-APPLE-STRUCTURED-LOCATION;VALUE=URI;X-ADDRESS=6025 West Valley Green Road
 \, Flourtown\, PA\, 19031\, United States;X-APPLE-RADIUS=100;X-TITLE=Phila
 delphia Cricket Club:geo:0,0
END:VEVENT
BEGIN:VTIMEZONE
TZID:America/New_York
X-LIC-LOCATION:America/New_York
BEGIN:DAYLIGHT
DTSTART:20260308T030000
TZOFFSETFROM:-0500
TZOFFSETTO:-0400
TZNAME:EDT
END:DAYLIGHT
END:VTIMEZONE
END:VCALENDAR